BEGIN:VCALENDAR
VERSION:2.0
PRODID:SchoolNow
CALSCALE:GREGORIAN
BEGIN:VEVENT
UID:6af23bb0-0c87-11ef-b408-0a58a9feac02
DTSTAMP:20240507T153522Z
SUMMARY:Baseball Northern California Super Regionals
LOCATION:FRC Baseball Field
URL;VALUE=URI:https://www.frc.edu/about/calendar/5929673/baseball-northern-
 california-super-regionals
DTSTART:20240510T180000Z
DTEND:20240511T010000Z
END:VEVENT
END:VCALENDAR
