BEGIN:VCALENDAR
VERSION:2.0
PRODID:SchoolNow
CALSCALE:GREGORIAN
BEGIN:VEVENT
UID:e786153a-0c86-11ef-86e1-0a58a9feac02
DTSTAMP:20240508T165715Z
SUMMARY:Baseball - Northern California Super Regionals
LOCATION:FRC Baseball Field
URL;VALUE=URI:https://www.frc.edu/about/calendar/5929672/baseball-northern-
 california-super-regionals
DTSTART:20240509T180000Z
DTEND:20240511T223000Z
END:VEVENT
END:VCALENDAR
