BEGIN:VCALENDAR
VERSION:2.0
PRODID:SchoolNow
CALSCALE:GREGORIAN
BEGIN:VEVENT
UID:53eb56fc-0897-11ef-a41b-0a58a9feac02
DTSTAMP:20240502T151911Z
SUMMARY:Baseball First Round of Playoffs
LOCATION:FRC Baseball field
URL;VALUE=URI:https://www.frc.edu/about/calendar/5899735/baseball-first-rou
 nd-of-playoffs
DTSTART:20240503T180000Z
DTEND:20240504T010000Z
END:VEVENT
END:VCALENDAR
