BEGIN:VCALENDAR
VERSION:2.0
PRODID:SchoolNow
CALSCALE:GREGORIAN
BEGIN:VEVENT
UID:66edb69c-0896-11ef-a145-0affff220fbf
DTSTAMP:20240502T151233Z
SUMMARY:Baseball First Round of Playoffs
LOCATION:FRC Baseball field
URL;VALUE=URI:https://www.frc.edu/about/calendar/5899732/baseball-first-rou
 nd-of-playoffs
DTSTART:20240502T210000Z
DTEND:20240503T000000Z
END:VEVENT
END:VCALENDAR
