BEGIN:VCALENDAR
VERSION:2.0
PRODID:SchoolNow
CALSCALE:GREGORIAN
BEGIN:VEVENT
UID:762af4a6-073f-11ef-9cf7-024f138622a9
DTSTAMP:20240430T232913Z
SUMMARY:Student Research Symposium
LOCATION:Outside of Perch
URL;VALUE=URI:https://www.frc.edu/about/calendar/5889717/student-research-s
 ymposium-clone
DTSTART:20240513T190000Z
DTEND:20240514T000000Z
END:VEVENT
END:VCALENDAR
