BEGIN:VCALENDAR
VERSION:2.0
PRODID:SchoolNow
CALSCALE:GREGORIAN
BEGIN:VEVENT
UID:1b3ce75a-0674-11ef-83a9-024f138622a9
DTSTAMP:20250505T192011Z
SUMMARY:Navigation Day for 9th Grade Students
LOCATION:FRC Campus
URL;VALUE=URI:https://www.frc.edu/about/calendar/5883087/navigation-day-for
 -9th-grade-students
DTSTART:20240510T163000Z
DTEND:20240510T200000Z
END:VEVENT
END:VCALENDAR
