BEGIN:VCALENDAR
VERSION:2.0
PRODID:SchoolNow
CALSCALE:GREGORIAN
BEGIN:VEVENT
UID:c186540e-0654-11ef-b168-0afff12acd8d
DTSTAMP:20240501T220612Z
SUMMARY:Creating Campus Community Event
LOCATION:The Green on FRC Campus
URL;VALUE=URI:https://www.frc.edu/about/calendar/5882019/creating-campus-co
 mmunity-event
DTSTART:20240514T183000Z
DTEND:20240514T200000Z
END:VEVENT
END:VCALENDAR
