BEGIN:VCALENDAR
VERSION:2.0
PRODID:SchoolNow
CALSCALE:GREGORIAN
BEGIN:VEVENT
UID:9400d448-0652-11ef-bf74-0a58a9feac02
DTSTAMP:20240429T180201Z
SUMMARY:Nor Cal Beach Volleyball Team Playoffs
LOCATION:FRC Beach Courts
URL;VALUE=URI:https://www.frc.edu/about/calendar/5882016/nor-cal-beach-voll
 eyball-team-playoffs
DTSTART:20240430T180000Z
DTEND:20240430T233000Z
END:VEVENT
END:VCALENDAR
