BEGIN:VCALENDAR
VERSION:2.0
PRODID:SchoolNow
CALSCALE:GREGORIAN
BEGIN:VEVENT
UID:c410a90a-00f9-11ef-9c2a-0e0891c4f7d9
DTSTAMP:20240422T224340Z
SUMMARY:Softball Double Header vs. Shasta College (Sophomore Day)
LOCATION:FRC Softball field
URL;VALUE=URI:https://www.frc.edu/about/calendar/5838322/softball-double-he
 ader-vs-shasta-college-sophomore-day
DTSTART:20240423T190000Z
DTEND:20240423T230000Z
END:VEVENT
END:VCALENDAR
