BEGIN:VCALENDAR
VERSION:2.0
PRODID:SchoolNow
CALSCALE:GREGORIAN
BEGIN:VEVENT
UID:c8727f6c-fb5b-11ee-b8ef-0a58a9feac02
DTSTAMP:20240415T191011Z
SUMMARY:Baseball Home Game vs. College of the Redwoods
LOCATION:Baseball Field
URL;VALUE=URI:https://www.frc.edu/about/calendar/5790744/baseball-home-game
 -vs-college-of-the-redwoods
DTSTART:20240420T200000Z
DTEND:20240420T220000Z
END:VEVENT
END:VCALENDAR
