BEGIN:VCALENDAR
VERSION:2.0
PRODID:SchoolNow
CALSCALE:GREGORIAN
BEGIN:VEVENT
UID:19593de6-fb3c-11ee-bdb2-021766929f57
DTSTAMP:20240415T152323Z
SUMMARY:Baseball Home Game vs. College of the Siskiyous
LOCATION:Baseball Field
URL;VALUE=URI:https://www.frc.edu/about/calendar/5788921/baseball-home-game
 -vs-college-of-the-siskiyous
DTSTART:20240415T220000Z
DTEND:20240416T010000Z
END:VEVENT
END:VCALENDAR
