BEGIN:VCALENDAR
VERSION:2.0
PRODID:SchoolNow
CALSCALE:GREGORIAN
BEGIN:VEVENT
UID:0258fbc6-f74b-11ee-b125-0affebf6e75b
DTSTAMP:20240410T150002Z
SUMMARY:Eagle Pride and the FRC library Dinner & a Movie
LOCATION:Library
URL;VALUE=URI:https://www.frc.edu/about/calendar/5751933/eagle-pride-and-th
 e-frc-library-dinner-a-movie
DTSTART:20240418T003000Z
DTEND:20240418T023000Z
END:VEVENT
END:VCALENDAR
