BEGIN:VCALENDAR
VERSION:2.0
PRODID:SchoolNow
CALSCALE:GREGORIAN
BEGIN:VEVENT
UID:6136b066-f5f7-11ee-a6d3-0affc4084d4d
DTSTAMP:20240411T170259Z
SUMMARY:Black Student Success Week
LOCATION:Online
URL;VALUE=URI:https://www.frc.edu/about/calendar/5740135/black-student-succ
 ess
DTSTART:20240422T222300Z
DTEND:20240426T232300Z
END:VEVENT
END:VCALENDAR
