BEGIN:VCALENDAR
VERSION:2.0
PRODID:SchoolNow
CALSCALE:GREGORIAN
BEGIN:VEVENT
UID:b1e67ce4-f377-11ee-a6c9-0ef927366aed
DTSTAMP:20240513T220249Z
SUMMARY:Student Art Exhibition
LOCATION:Downtown Quincy Art Galleries
URL;VALUE=URI:https://www.frc.edu/about/calendar/5715732/student-art-exhibi
 tion
DTSTART:20240501T150000Z
DTEND:20240513T000000Z
END:VEVENT
END:VCALENDAR
