BEGIN:VCALENDAR
VERSION:2.0
PRODID:SchoolNow
CALSCALE:GREGORIAN
BEGIN:VEVENT
UID:b240f4f4-f051-11ee-8783-0a58a9feac02
DTSTAMP:20240408T160020Z
SUMMARY:Baseball Home Double Header vs. College of the Siskiyous
URL;VALUE=URI:https://www.frc.edu/about/calendar/5682832/baseball-home-game
 -vs-college-of-the-siskiyous
DTSTART:20240408T190000Z
DTEND:20240409T010000Z
END:VEVENT
END:VCALENDAR
