BEGIN:VCALENDAR
VERSION:2.0
PRODID:SchoolNow
CALSCALE:GREGORIAN
BEGIN:VEVENT
UID:6509600e-f051-11ee-8fe8-02efb7bbd2c1
DTSTAMP:20240401T175910Z
SUMMARY:Softball Home Double Header vs. Butte College
URL;VALUE=URI:https://www.frc.edu/about/calendar/5682830/home-softball-doub
 le-header-vs-butte-college
DTSTART:20240402T190000Z
DTEND:20240402T230000Z
END:VEVENT
END:VCALENDAR
