BEGIN:VCALENDAR
VERSION:2.0
PRODID:SchoolNow
CALSCALE:GREGORIAN
BEGIN:VEVENT
UID:1d7f2f26-eaec-11ee-90e9-0a58a9feac02
DTSTAMP:20240325T211032Z
SUMMARY:EOPS Priority Registration (Popcorn)
LOCATION:EOPS Office
URL;VALUE=URI:https://www.frc.edu/about/calendar/5629969/eops-priority-regi
 stration-popcorn
DTSTART:20240409T233000Z
DTEND:20240410T013000Z
END:VEVENT
END:VCALENDAR
