BEGIN:VCALENDAR
VERSION:2.0
PRODID:SchoolNow
CALSCALE:GREGORIAN
BEGIN:VEVENT
UID:f4620466-e89c-11ee-abb0-0a58a9feac02
DTSTAMP:20240322T223850Z
SUMMARY:Quincy Star Follies
LOCATION:Plumas-Sierra Fairgrounds in Quincy
URL;VALUE=URI:https://www.frc.edu/about/calendar/5609036/quincy-star-follie
 s
DTSTART:20240323T010000Z
DTEND:20240324T040000Z
END:VEVENT
END:VCALENDAR
