BEGIN:VCALENDAR
VERSION:2.0
PRODID:SchoolNow
CALSCALE:GREGORIAN
BEGIN:VEVENT
UID:0abd7cf6-dcde-11ee-ace6-02961620ce8f
DTSTAMP:20240307T235431Z
SUMMARY:Faculty Flex Day (No Classes)
URL;VALUE=URI:https://www.frc.edu/about/calendar/5491105/faculty-flex-day-n
 o-classes
DTSTART;VALUE=DATE:20240319
DTEND;VALUE=DATE:20240320
END:VEVENT
END:VCALENDAR
