BEGIN:VCALENDAR
VERSION:2.0
PRODID:SchoolNow
CALSCALE:GREGORIAN
BEGIN:VEVENT
UID:ef07a90c-dc1d-11ee-844d-0a58a9feac02
DTSTAMP:20240307T005921Z
SUMMARY:23/24 Student Recognition Awards
LOCATION:Upper Green outside of Eagle's Perch
URL;VALUE=URI:https://www.frc.edu/about/calendar/5482908/22-23-student-reco
 gnition-awards-clone
DTSTART:20240430T190000Z
DTEND:20240430T201500Z
END:VEVENT
END:VCALENDAR
