BEGIN:VCALENDAR
VERSION:2.0
PRODID:SchoolNow
CALSCALE:GREGORIAN
BEGIN:VEVENT
UID:b651c23e-d504-11ee-9769-0e74db023561
DTSTAMP:20240227T001111Z
SUMMARY:2024 Presidential Primary Election - GO VOTE!
LOCATION:Online or Quincy Courthouse
URL;VALUE=URI:https://www.frc.edu/about/calendar/5410917/2024-presidential-
 primary-election-go-vote
DTSTART:20240306T000500Z
DTEND:20240306T010500Z
END:VEVENT
END:VCALENDAR
