BEGIN:VCALENDAR
VERSION:2.0
PRODID:SchoolNow
CALSCALE:GREGORIAN
BEGIN:VEVENT
UID:ac5733f6-d4da-11ee-8c7a-020e04c365a5
DTSTAMP:20240226T191015Z
SUMMARY:Get Lunch & LIT(erature)
LOCATION:The Perch
URL;VALUE=URI:https://www.frc.edu/about/calendar/5409611/get-lunch-lit-erat
 ure
DTSTART:20240307T193000Z
DTEND:20240307T210000Z
ATTACH;FILENAME=Read Across America Day (4).png;FMTTYPE=image/png:https://c
 ampussuite-storage.s3.amazonaws.com/prod/1558523/0672826e-a84b-11e7-9779-0
 ae3e1d9783c/2747772/11a23d24-d4da-11ee-832b-026ff45cbcd7/file/Read Across 
 America Day (4).png
END:VEVENT
END:VCALENDAR
