BEGIN:VCALENDAR
VERSION:2.0
PRODID:SchoolNow
CALSCALE:GREGORIAN
BEGIN:VEVENT
UID:b01fbe84-d112-11ee-b9aa-0ae4f226ceb1
DTSTAMP:20240221T234214Z
SUMMARY:Job Fair
LOCATION:FRC Gymnasium
URL;VALUE=URI:https://www.frc.edu/about/calendar/5376953/job-fair
DTSTART:20240307T003000Z
DTEND:20240307T040000Z
END:VEVENT
END:VCALENDAR
