BEGIN:VCALENDAR
VERSION:2.0
PRODID:SchoolNow
CALSCALE:GREGORIAN
BEGIN:VEVENT
UID:cfbe3214-cc50-11ee-931b-0a58a9feac02
DTSTAMP:20240215T222314Z
SUMMARY:Sound of Signs: ASL Club Meeting
LOCATION:Room 605
URL;VALUE=URI:https://www.frc.edu/about/calendar/5336486/sound-of-signs-asl
 -club-meeting
DTSTART:20240216T200000Z
DTEND:20240216T210000Z
END:VEVENT
END:VCALENDAR
