BEGIN:VCALENDAR
VERSION:2.0
PRODID:SchoolNow
CALSCALE:GREGORIAN
BEGIN:VEVENT
UID:588c59da-cac7-11ee-9c11-0a58a9feac02
DTSTAMP:20240213T232642Z
SUMMARY:Black History Month - Celebration Luncheon
LOCATION:The Perch
URL;VALUE=URI:https://www.frc.edu/about/calendar/5323245/black-history-mont
 h-celebration-luncheon
DTSTART:20240222T190000Z
DTEND:20240222T210000Z
END:VEVENT
END:VCALENDAR
