BEGIN:VCALENDAR
VERSION:2.0
PRODID:SchoolNow
CALSCALE:GREGORIAN
BEGIN:VEVENT
UID:a4d852fe-cac6-11ee-b8e1-0a58a9feac02
DTSTAMP:20240228T195443Z
SUMMARY:Open Mic Night
LOCATION:FRC Art Studio
URL;VALUE=URI:https://www.frc.edu/about/calendar/5323242/open-mic-night
DTSTART:20240309T020000Z
DTEND:20240309T040000Z
ATTACH;FILENAME=Open Mic Night - New Date.png;FMTTYPE=image/png:https://cam
 pussuite-storage.s3.amazonaws.com/prod/1558523/0672826e-a84b-11e7-9779-0ae
 3e1d9783c/2749084/28872974-d673-11ee-8d8b-0a58a9feac02/file/Open Mic Night
  - New Date.png
END:VEVENT
END:VCALENDAR
