BEGIN:VCALENDAR
VERSION:2.0
PRODID:SchoolNow
CALSCALE:GREGORIAN
BEGIN:VEVENT
UID:455b8d2c-c612-11ee-aa07-0a58a9feac02
DTSTAMP:20240209T001432Z
SUMMARY:Lasagna Meal Kit Day
LOCATION:Student Wellness & Success Center
URL;VALUE=URI:https://www.frc.edu/about/calendar/5281619/lasagna-meal-kit-d
 ay
DTSTART:20240213T170000Z
DTEND:20240214T000000Z
END:VEVENT
END:VCALENDAR
