BEGIN:VCALENDAR
VERSION:2.0
PRODID:SchoolNow
CALSCALE:GREGORIAN
BEGIN:VEVENT
UID:9da3da4c-c460-11ee-bd30-0a5ffd5f9ba5
DTSTAMP:20240205T195650Z
SUMMARY:Black History Month Webinar: Leading with Equity
LOCATION:Classroom 871
URL;VALUE=URI:https://www.frc.edu/about/calendar/5268255/leading-with-equit
 y-bhm-webinar
DTSTART:20240207T170000Z
DTEND:20240207T180000Z
END:VEVENT
END:VCALENDAR
