BEGIN:VCALENDAR
VERSION:2.0
PRODID:SchoolNow
CALSCALE:GREGORIAN
BEGIN:VEVENT
UID:069318dc-c093-11ee-b4e2-0a58a9feac02
DTSTAMP:20240131T234659Z
SUMMARY:ASFRC Meeting
LOCATION:Room 605
URL;VALUE=URI:https://www.frc.edu/about/calendar/5238334/asfrc-meeting-clon
 e-clone-clone-clone
DTSTART:20240408T190000Z
DTEND:20240408T200000Z
END:VEVENT
END:VCALENDAR
