BEGIN:VCALENDAR
VERSION:2.0
PRODID:SchoolNow
CALSCALE:GREGORIAN
BEGIN:VEVENT
UID:3b7acc22-c08c-11ee-bc3a-021791d9843b
DTSTAMP:20240131T225822Z
SUMMARY:Free Lunch for Students
LOCATION:Eagles Perch
URL;VALUE=URI:https://www.frc.edu/about/calendar/5237431/free-lunch-for-stu
 dents-clone-clone
DTSTART:20240321T180000Z
DTEND:20240321T210000Z
END:VEVENT
END:VCALENDAR
