BEGIN:VCALENDAR
VERSION:2.0
PRODID:SchoolNow
CALSCALE:GREGORIAN
BEGIN:VEVENT
UID:3867c838-bfc8-11ee-a719-0ed4dec2d5e1
DTSTAMP:20240130T233515Z
SUMMARY:Black History Month Webinar: Black Women Athletes
LOCATION:Classroom 605
URL;VALUE=URI:https://www.frc.edu/about/calendar/5233490/black-history-mont
 h-webinar-black-women-athletes
DTSTART:20240208T170000Z
DTEND:20240208T180000Z
END:VEVENT
END:VCALENDAR
