BEGIN:VCALENDAR
VERSION:2.0
PRODID:SchoolNow
CALSCALE:GREGORIAN
BEGIN:VEVENT
UID:c8b3a8e8-bad8-11ee-a282-0a58a9feac02
DTSTAMP:20240124T165113Z
SUMMARY:Free Lunch for Students
LOCATION:Eagles Perch
URL;VALUE=URI:https://www.frc.edu/about/calendar/5203075/free-lunch-for-stu
 dents
DTSTART:20240125T190000Z
DTEND:20240125T220000Z
END:VEVENT
END:VCALENDAR
