BEGIN:VCALENDAR
VERSION:2.0
PRODID:SchoolNow
CALSCALE:GREGORIAN
BEGIN:VEVENT
UID:0c76af20-b4c2-11ee-ac9a-0a58a9feac02
DTSTAMP:20240116T225322Z
SUMMARY:Free Movie Screening: "Poor Things"
LOCATION:Town Hall Theater
URL;VALUE=URI:https://www.frc.edu/about/calendar/5164745/free-movie-screeni
 ng-poor-things
DTSTART:20240127T030000Z
DTEND:20240129T050000Z
END:VEVENT
END:VCALENDAR
