BEGIN:VCALENDAR
VERSION:2.0
PRODID:SchoolNow
CALSCALE:GREGORIAN
BEGIN:VEVENT
UID:075bc584-b4c2-11ee-be17-0a58a9feac02
DTSTAMP:20240116T225313Z
SUMMARY:Bowling Bonanza
LOCATION:Sierra Bella Lanes
URL;VALUE=URI:https://www.frc.edu/about/calendar/5164744/bowling-bonanza
DTSTART:20240127T010000Z
DTEND:20240127T030000Z
END:VEVENT
END:VCALENDAR
