BEGIN:VCALENDAR
VERSION:2.0
PRODID:SchoolNow
CALSCALE:GREGORIAN
BEGIN:VEVENT
UID:fc1862e0-b4c1-11ee-9404-0a58a9feac02
DTSTAMP:20240116T225254Z
SUMMARY:Coffee & Pastries
LOCATION:The Perch
URL;VALUE=URI:https://www.frc.edu/about/calendar/5164742/coffee-pastries
DTSTART:20240122T163000Z
DTEND:20240122T190000Z
END:VEVENT
END:VCALENDAR
