BEGIN:VCALENDAR
VERSION:2.0
PRODID:SchoolNow
CALSCALE:GREGORIAN
BEGIN:VEVENT
UID:0c50c45a-ac06-11ee-8d4a-0a58a9feac02
DTSTAMP:20240105T200727Z
SUMMARY:Beach Volleyball Home Match vs. College of the Siskiyous
LOCATION:Feather River College Sand Courts
URL;VALUE=URI:https://www.frc.edu/about/calendar/5110007/beach-volleyball-h
 ome-match-vs-college-of-the-siskiyous
DTSTART:20240419T200000Z
DTEND:20240419T220000Z
END:VEVENT
END:VCALENDAR
