BEGIN:VCALENDAR
VERSION:2.0
PRODID:SchoolNow
CALSCALE:GREGORIAN
BEGIN:VEVENT
UID:dc5935c0-ac05-11ee-a5fc-0a58a9feac02
DTSTAMP:20240105T200800Z
SUMMARY:Beach Volleyball Home Match vs. Lassen College
LOCATION:Feather River Colle Sand Courts
URL;VALUE=URI:https://www.frc.edu/about/calendar/5110006/beach-volleyball-h
 ome-match-vs-lassen-college
DTSTART:20240419T170000Z
DTEND:20240419T200000Z
END:VEVENT
END:VCALENDAR
