BEGIN:VCALENDAR
VERSION:2.0
PRODID:SchoolNow
CALSCALE:GREGORIAN
BEGIN:VEVENT
UID:afb3a69a-ac05-11ee-abe7-0a58a9feac02
DTSTAMP:20240328T193449Z
SUMMARY:Beach Volleyball Home Match vs. Shasta College
LOCATION:Feather River College Sand Courts
URL;VALUE=URI:https://www.frc.edu/about/calendar/5110003/beach-volleyball-h
 ome-match-vs-shasta-college
DTSTART:20240417T220000Z
DTEND:20240418T000000Z
END:VEVENT
END:VCALENDAR
