BEGIN:VCALENDAR
VERSION:2.0
PRODID:SchoolNow
CALSCALE:GREGORIAN
BEGIN:VEVENT
UID:89665a5a-ac05-11ee-95da-0e05efb7f133
DTSTAMP:20240328T193428Z
SUMMARY:Beach Volleyball Home Match vs. Lassen College
LOCATION:Feather River College Sand Courts
URL;VALUE=URI:https://www.frc.edu/about/calendar/5110002/beach-volleyball-h
 ome-match-vs-lassen-college
DTSTART:20240417T180000Z
DTEND:20240417T220000Z
END:VEVENT
END:VCALENDAR
