BEGIN:VCALENDAR
VERSION:2.0
PRODID:SchoolNow
CALSCALE:GREGORIAN
BEGIN:VEVENT
UID:27d289bc-ac05-11ee-b68d-0a58a9feac02
DTSTAMP:20240410T210803Z
SUMMARY:Softball Home Double Header vs. Mendocino College
LOCATION:Feather River College Softball Field
URL;VALUE=URI:https://www.frc.edu/about/calendar/5110000/softball-home-doub
 le-header-vs-mendocino-college
DTSTART:20240412T170000Z
DTEND:20240412T210000Z
END:VEVENT
END:VCALENDAR
