BEGIN:VCALENDAR
VERSION:2.0
PRODID:SchoolNow
CALSCALE:GREGORIAN
BEGIN:VEVENT
UID:e5188d74-ac04-11ee-8276-0a58a9feac02
DTSTAMP:20240325T171711Z
SUMMARY:Softball Home Double Header vs. Lassen College
LOCATION:Feather River College Softball Field
URL;VALUE=URI:https://www.frc.edu/about/calendar/5109999/softball-home-doub
 le-header-vs-lassen-college
DTSTART:20240326T190000Z
DTEND:20240326T230000Z
END:VEVENT
END:VCALENDAR
