BEGIN:VCALENDAR
VERSION:2.0
PRODID:SchoolNow
CALSCALE:GREGORIAN
BEGIN:VEVENT
UID:8ba3283a-ac04-11ee-9a9d-0e05efb7f133
DTSTAMP:20240320T204124Z
SUMMARY:Softball Home Double Header vs. Yuba College
LOCATION:Feather River College Softball Field
URL;VALUE=URI:https://www.frc.edu/about/calendar/5109997/softball-home-doub
 le-header-vs-yuba-college
DTSTART:20240321T190000Z
DTEND:20240321T230000Z
END:VEVENT
END:VCALENDAR
