BEGIN:VCALENDAR
VERSION:2.0
PRODID:SchoolNow
CALSCALE:GREGORIAN
BEGIN:VEVENT
UID:2bc319d4-ac04-11ee-8525-0a58a9feac02
DTSTAMP:20240105T195400Z
SUMMARY:Baseball Home Game vs. Butte College
LOCATION:Feather River College Baseball Field
URL;VALUE=URI:https://www.frc.edu/about/calendar/5109975/baseball-home-game
 -vs-butte-college
DTSTART:20240425T210000Z
DTEND:20240426T000000Z
END:VEVENT
END:VCALENDAR
