BEGIN:VCALENDAR
VERSION:2.0
PRODID:SchoolNow
CALSCALE:GREGORIAN
BEGIN:VEVENT
UID:04e6d3a0-ac04-11ee-b877-0a58a9feac02
DTSTAMP:20240415T190858Z
SUMMARY:Baseball Home Game vs. College of the Redwoods
LOCATION:Feather River College Baseball Field
URL;VALUE=URI:https://www.frc.edu/about/calendar/5109974/baseball-home-doub
 le-header-vs-college-of-the-redwoods
DTSTART:20240420T000000Z
DTEND:20240420T030000Z
END:VEVENT
END:VCALENDAR
