BEGIN:VCALENDAR
VERSION:2.0
PRODID:SchoolNow
CALSCALE:GREGORIAN
BEGIN:VEVENT
UID:bce2c654-ac03-11ee-b4f5-0a58a9feac02
DTSTAMP:20240411T152126Z
SUMMARY:Baseball Home Game vs. Shasta College
LOCATION:Feather River College Baseball Field
URL;VALUE=URI:https://www.frc.edu/about/calendar/5109973/baseball-home-game
 -vs-shasta-college
DTSTART:20240411T220000Z
DTEND:20240412T010000Z
END:VEVENT
END:VCALENDAR
