BEGIN:VCALENDAR
VERSION:2.0
PRODID:SchoolNow
CALSCALE:GREGORIAN
BEGIN:VEVENT
UID:95174672-ac03-11ee-89f1-0a58a9feac02
DTSTAMP:20240411T152040Z
SUMMARY:Baseball Home Game vs. Shasta College
LOCATION:Feather River College Baseball Field
URL;VALUE=URI:https://www.frc.edu/about/calendar/5109972/baseball-home-game
 -vs-shasta-college
DTSTART:20240412T190000Z
DTEND:20240412T220000Z
END:VEVENT
END:VCALENDAR
