BEGIN:VCALENDAR
VERSION:2.0
PRODID:SchoolNow
CALSCALE:GREGORIAN
BEGIN:VEVENT
UID:072f6498-ac03-11ee-ab3e-0a58a9feac02
DTSTAMP:20240401T175516Z
SUMMARY:Baseball Home Game vs. Lassen College
LOCATION:Feather River College Baseball Field
URL;VALUE=URI:https://www.frc.edu/about/calendar/5109971/baseball-home-game
 -vs-lassen-college
DTSTART:20240402T220000Z
DTEND:20240403T010000Z
END:VEVENT
END:VCALENDAR
