BEGIN:VCALENDAR
VERSION:2.0
PRODID:SchoolNow
CALSCALE:GREGORIAN
BEGIN:VEVENT
UID:d82145d6-ac02-11ee-b818-0a58a9feac02
DTSTAMP:20240325T171647Z
SUMMARY:Baseball Home Game vs. Folsom Lake College
LOCATION:Feather River College
URL;VALUE=URI:https://www.frc.edu/about/calendar/5109652/baseball-home-game
 -vs-folsom-lake-college
DTSTART:20240326T220000Z
DTEND:20240327T010000Z
END:VEVENT
END:VCALENDAR
