BEGIN:VCALENDAR
VERSION:2.0
PRODID:SchoolNow
CALSCALE:GREGORIAN
BEGIN:VEVENT
UID:a919770e-ac02-11ee-b4d1-0a58a9feac02
DTSTAMP:20240320T204237Z
SUMMARY:Baseball Home Double Header vs. Butte College
LOCATION:Feather River Baseball Field
URL;VALUE=URI:https://www.frc.edu/about/calendar/5109651/baseball-home-doub
 le-header-vs-butte-college
DTSTART:20240321T190000Z
DTEND:20240322T010000Z
END:VEVENT
END:VCALENDAR
