BEGIN:VCALENDAR
VERSION:2.0
PRODID:SchoolNow
CALSCALE:GREGORIAN
BEGIN:VEVENT
UID:698441e6-ac02-11ee-b618-0a58a9feac02
DTSTAMP:20240301T192211Z
SUMMARY:Baseball Home Double Header vs. College of the Siskiyous (Postponed
  to a later date due to weather)
LOCATION:Feather River College Baseball Field
URL;VALUE=URI:https://www.frc.edu/about/calendar/5109650/baseball-home-doub
 le-header-vs-college-of-the-siskiyous
DTSTART:20240302T200000Z
DTEND:20240303T020000Z
END:VEVENT
END:VCALENDAR
